BEGIN:VCALENDAR
PRODID:-//AT Content Types//AT Event//EN
VERSION:2.0
METHOD:PUBLISH
BEGIN:VEVENT
DTSTAMP:20260424T194241Z
CREATED:20191029T142052Z
UID:ATEvent-ecca5b76a571463e908ebde8d4295713
LAST-MODIFIED:20191030T090401Z
SUMMARY:Drop-in session 1
DTSTART:20191105T140000Z
DTEND:20191105T200000Z
DESCRIPTION:To help you understand the options\nand talk to the counci
 l\, we are holding drop-in sessions at:\n\nSt Matthews Church Hall\n22
 2 Willenhall Road\nWolverhampton\nWV1 2JQ
CLASS:PUBLIC
END:VEVENT
END:VCALENDAR
