BEGIN:VCALENDAR
PRODID:-//AT Content Types//AT Event//EN
VERSION:2.0
METHOD:PUBLISH
BEGIN:VEVENT
DTSTAMP:20260424T210026Z
CREATED:20190627T091818Z
UID:ATEvent-9f702070aebb449a9e6c930ec40eb66e
LAST-MODIFIED:20190802T102333Z
SUMMARY:Public display
DTSTART:20190702T080000Z
DTEND:20190726T150000Z
DESCRIPTION:A proposed design of the new play area will be on display 
 at :\n\n- Coven Lodge\, Coven Street\, Wolverhampton\, WV10 9AX and\;\
 n- Stratton Street Community Centre\, Stratton Street\, Wolverhampton\
 , WV10 9AJ \n\nfrom Tuesday 2nd July where questionnaires will be prov
 ided to enable local residents to feedback their views.
CLASS:PUBLIC
END:VEVENT
END:VCALENDAR
