BEGIN:VCALENDAR
PRODID:-//AT Content Types//AT Event//EN
VERSION:2.0
METHOD:PUBLISH
BEGIN:VEVENT
DTSTAMP:20260424T193953Z
CREATED:20190806T115259Z
UID:ATEvent-481e3b16c908435fabfc31b3c57faaf2
LAST-MODIFIED:20190827T073720Z
SUMMARY:Engagement Event (1)
DTSTART:20190916T093000Z
DTEND:20190916T110000Z
DESCRIPTION:The session will begin with a short presentation followed 
 by engagement questions and discussion. Sign language interpretation a
 nd a loop induction system will be provided. Please bring your mobile 
 phone as you may use it to respond to some of the questions.
CLASS:PUBLIC
END:VEVENT
END:VCALENDAR
