BEGIN:VCALENDAR
PRODID:-//AT Content Types//AT Event//EN
VERSION:2.0
METHOD:PUBLISH
BEGIN:VEVENT
DTSTAMP:20260424T194051Z
CREATED:20190827T073508Z
UID:ATEvent-dd188b69519843948ed66a3dd2073dcd
LAST-MODIFIED:20190827T073720Z
SUMMARY:Engagement Event (2)
DTSTART:20190916T163000Z
DTEND:20190916T180000Z
DESCRIPTION:The session will begin with a short presentation followed 
 by engagement questions and discussion. Sign language interpretation a
 nd a loop induction system will be provided. Please bring your mobile 
 phone as you may use it to respond to some of the questions.
CLASS:PUBLIC
END:VEVENT
END:VCALENDAR
