BEGIN:VCALENDAR
PRODID:-//AT Content Types//AT Event//EN
VERSION:2.0
METHOD:PUBLISH
BEGIN:VEVENT
DTSTAMP:20260419T143737Z
CREATED:20240312T125800Z
UID:ATEvent-3e62a13b157e480aa091dc58595b5ac5
LAST-MODIFIED:20240319T082110Z
SUMMARY:Market stall exhibition
DTSTART:20240319T100000Z
DTEND:20240319T150000Z
DESCRIPTION:Council Staff available to discuss the detail and options 
 for the improvements to the high street and village centre.
CLASS:PUBLIC
END:VEVENT
END:VCALENDAR
