BEGIN:VCALENDAR
PRODID:-//AT Content Types//AT Event//EN
VERSION:2.0
METHOD:PUBLISH
BEGIN:VEVENT
DTSTAMP:20260419T185034Z
CREATED:20200116T140039Z
UID:ATEvent-5c882eb9b97942e7ae3eeea1d1b9d07f
LAST-MODIFIED:20200225T121501Z
SUMMARY:Whitmore Reans' Unsung Heroes Celebration
DTSTART:20200320T140000Z
DTEND:20200320T180000Z
DESCRIPTION:We will be celebrating Whitmore Reans’ unsung heroes on 
 Friday 20 March 2020 at the Heritage Centre\, Clifford St\, Wolverhamp
 ton WV6 0AA
CLASS:PUBLIC
END:VEVENT
END:VCALENDAR
