BEGIN:VCALENDAR
PRODID:-//AT Content Types//AT Event//EN
VERSION:2.0
METHOD:PUBLISH
BEGIN:VEVENT
DTSTAMP:20260424T195000Z
CREATED:20190909T072516Z
UID:ATEvent-529fc1734c494dfa9c6076a800082996
LAST-MODIFIED:20200415T144011Z
SUMMARY:PACT Meeting
DTSTART:20190910T180000Z
DTEND:20190910T180000Z
DESCRIPTION:Wednesfield
CLASS:PUBLIC
END:VEVENT
END:VCALENDAR
