BEGIN:VCALENDAR
PRODID:-//AT Content Types//AT Event//EN
VERSION:2.0
METHOD:PUBLISH
BEGIN:VEVENT
DTSTAMP:20260424T194828Z
CREATED:20190909T072516Z
UID:ATEvent-3e6a4e0ca68e49cabe6a06fd285bb8f4
LAST-MODIFIED:20200415T144011Z
SUMMARY:PACT Meeting
DTSTART:20190919T180000Z
DTEND:20190919T200000Z
DESCRIPTION:Bilston East
CLASS:PUBLIC
END:VEVENT
END:VCALENDAR
