BEGIN:VCALENDAR
PRODID:-//AT Content Types//AT Event//EN
VERSION:2.0
METHOD:PUBLISH
BEGIN:VEVENT
DTSTAMP:20260424T194632Z
CREATED:20190909T072516Z
UID:ATEvent-7f0ad6552ff44d96b79b79c7f6ea27b4
LAST-MODIFIED:20200415T144011Z
SUMMARY:PACT Meeting
DTSTART:20190916T163000Z
DTEND:20190916T183000Z
DESCRIPTION:Tettenhall
CLASS:PUBLIC
END:VEVENT
END:VCALENDAR
